BEGIN:VCALENDAR
VERSION:2.0
PRODID:-//wp-events-plugin.com//7.0.5//EN
BEGIN:VEVENT
UID:1286@tsgeppstein.de
DTSTART:20240209T163000Z
DTEND:20240209T173000Z
DTSTAMP:20250609T160619Z
URL:https://www.tsgeppstein.de/termine/sie-er-gymnastik-2024-02-09/
SUMMARY:Sie&Er Gymnastik
DESCRIPTION:Spielerisch zur Musik – Vielseitig in Bewegung bleiben und Kr
 aft aufbauen.
ATTACH;FMTTYPE=image/jpeg:https://www.tsgeppstein.de/wp-content/uploads/20
 23/03/sieUer_voll.jpg
CATEGORIES:Erwachsene,Turnen
LOCATION:Turnhalle Burgschule\, Bergstraße 42-44\, Eppstein\, Deutschland
X-APPLE-STRUCTURED-LOCATION;VALUE=URI;X-ADDRESS=Bergstraße 42-44\, Eppstei
 n\, Deutschland;X-APPLE-RADIUS=100;X-TITLE=Turnhalle Burgschule:geo:0,0
END:VEVENT
END:VCALENDAR